BEGIN:VCALENDAR
VERSION:2.0
PRODID:-//Eventin//Event Calendar//EN
CALSCALE:GREGORIAN
METHOD:PUBLISH
BEGIN:VEVENT
UID:42aa37c3e9a6f9c1437c845dc36a340c@stxaviersmahad.com
SUMMARY:Career Mantra Goregaon
DESCRIPTION:It is not easy to decide on the career option that will determi
 ne the best of each students life\, especially when they are in class 10th.
  It does not help them as even the parents are confused about the right adv
 ice to offer. Hence we turn to the experts.We here at St. Xavier's School\,
  Mahad are bringing such an expert to your town to help answer all your que
 stions and guide you to choose the best for your child.To know more about t
 he event please visit the event details page here
LOCATION:Online
DTSTAMP:20260421T091128Z
DTSTART:20230326T133000Z
DTEND:20260421T150000Z
END:VEVENT
END:VCALENDAR
